Package: curatedCRCData Version: 2.42.0 Command: /home/biocbuild/bbs-3.22-bioc/R/bin/R CMD INSTALL curatedCRCData StartedAt: 2025-11-13 10:56:21 -0500 (Thu, 13 Nov 2025) EndedAt: 2025-11-13 10:56:29 -0500 (Thu, 13 Nov 2025) EllapsedTime: 7.9 seconds RetCode: 0 Status: OK