Package: curatedAdipoChIP Version: 1.26.0 Command: /home/biocbuild/bbs-3.22-bioc/R/bin/R CMD INSTALL curatedAdipoChIP StartedAt: 2025-11-13 11:00:36 -0500 (Thu, 13 Nov 2025) EndedAt: 2025-11-13 11:01:03 -0500 (Thu, 13 Nov 2025) EllapsedTime: 26.5 seconds RetCode: 0 Status: OK