Package: curatedAdipoChIP Version: 1.26.0 Command: /home/biocbuild/bbs-3.22-bioc/R/bin/R CMD build --keep-empty-dirs --no-resave-data curatedAdipoChIP StartedAt: 2025-11-13 11:11:51 -0500 (Thu, 13 Nov 2025) EndedAt: 2025-11-13 11:13:38 -0500 (Thu, 13 Nov 2025) EllapsedTime: 107.0 seconds RetCode: 0 Status: OK PackageFile: curatedAdipoChIP_1.26.0.tar.gz PackageFileSize: 140.6 KiB