Package: curatedAdipoArray
Version: 1.20.0
Maintainer: Mahmoud Ahmed
MaintainerEmail: mahmoud.s.fahmy at students.kasralainy.edu.eg
git_url: https://git.bioconductor.org/packages/curatedAdipoArray
git_branch: RELEASE_3_21
git_last_commit: 3495918
git_last_commit_date: 2025-04-15 10:14:34 -0400 (Tue, 15 Apr 2025)