Package: clustifyrdatahub Version: 1.20.0 Command: /home/biocbuild/bbs-3.22-bioc/R/bin/R CMD INSTALL clustifyrdatahub StartedAt: 2025-11-13 10:57:16 -0500 (Thu, 13 Nov 2025) EndedAt: 2025-11-13 10:57:29 -0500 (Thu, 13 Nov 2025) EllapsedTime: 13.2 seconds RetCode: 0 Status: OK