Package: clustifyrdatahub Version: 1.20.0 Command: /home/biocbuild/bbs-3.22-bioc/R/bin/R CMD check --install=check:clustifyrdatahub.install-out.txt --library=/home/biocbuild/bbs-3.22-bioc/R/site-library --timings clustifyrdatahub_1.20.0.tar.gz StartedAt: 2025-11-13 12:09:59 -0500 (Thu, 13 Nov 2025) EndedAt: 2025-11-13 12:12:30 -0500 (Thu, 13 Nov 2025) EllapsedTime: 151.0 seconds RetCode: 0 Status: OK CheckDir: clustifyrdatahub.Rcheck Warnings: 0