Package: clustifyrdatahub Version: 1.20.0 Command: /home/biocbuild/bbs-3.22-bioc/R/bin/R CMD build --keep-empty-dirs --no-resave-data clustifyrdatahub StartedAt: 2025-11-13 11:10:44 -0500 (Thu, 13 Nov 2025) EndedAt: 2025-11-13 11:11:20 -0500 (Thu, 13 Nov 2025) EllapsedTime: 36.5 seconds RetCode: 0 Status: OK PackageFile: clustifyrdatahub_1.20.0.tar.gz PackageFileSize: 299.9 KiB