Package: clustifyrdatahub Version: 1.18.0 Command: /home/biocbuild/bbs-3.21-bioc/R/bin/R CMD INSTALL clustifyrdatahub StartedAt: 2025-10-16 10:57:25 -0400 (Thu, 16 Oct 2025) EndedAt: 2025-10-16 10:57:39 -0400 (Thu, 16 Oct 2025) EllapsedTime: 14.0 seconds RetCode: 0 Status: OK