Package: chipseqDBData Version: 1.26.0 Command: /home/biocbuild/bbs-3.22-bioc/R/bin/R CMD INSTALL chipseqDBData StartedAt: 2025-11-13 11:00:44 -0500 (Thu, 13 Nov 2025) EndedAt: 2025-11-13 11:01:00 -0500 (Thu, 13 Nov 2025) EllapsedTime: 16.0 seconds RetCode: 0 Status: OK