Package: chipseqDBData Version: 1.26.0 Command: /home/biocbuild/bbs-3.22-bioc/R/bin/R CMD build --keep-empty-dirs --no-resave-data chipseqDBData StartedAt: 2025-11-13 11:10:13 -0500 (Thu, 13 Nov 2025) EndedAt: 2025-11-13 11:11:24 -0500 (Thu, 13 Nov 2025) EllapsedTime: 70.3 seconds RetCode: 0 Status: OK PackageFile: chipseqDBData_1.26.0.tar.gz PackageFileSize: 300.8 KiB