Package: celldex Version: 1.20.0 Command: /home/biocbuild/bbs-3.22-bioc/R/bin/R CMD build --keep-empty-dirs --no-resave-data celldex StartedAt: 2025-11-13 11:09:11 -0500 (Thu, 13 Nov 2025) EndedAt: 2025-11-13 11:10:02 -0500 (Thu, 13 Nov 2025) EllapsedTime: 51.5 seconds RetCode: 0 Status: OK PackageFile: celldex_1.20.0.tar.gz PackageFileSize: 402.6 KiB