Package: ccdata Version: 1.36.0 Command: /home/biocbuild/bbs-3.22-bioc/R/bin/R CMD build --keep-empty-dirs --no-resave-data ccdata StartedAt: 2025-11-13 11:09:04 -0500 (Thu, 13 Nov 2025) EndedAt: 2025-11-13 11:09:55 -0500 (Thu, 13 Nov 2025) EllapsedTime: 51.6 seconds RetCode: 0 Status: OK PackageFile: ccdata_1.36.0.tar.gz PackageFileSize: 893.9 MiB