Package: cMap2data Version: 1.46.0 Command: /home/biocbuild/bbs-3.22-bioc/R/bin/R CMD INSTALL cMap2data StartedAt: 2025-11-13 10:55:14 -0500 (Thu, 13 Nov 2025) EndedAt: 2025-11-13 10:55:25 -0500 (Thu, 13 Nov 2025) EllapsedTime: 10.7 seconds RetCode: 0 Status: OK