Package: bugphyzz Version: 1.4.0 Command: /home/biocbuild/bbs-3.22-bioc/R/bin/R CMD INSTALL bugphyzz StartedAt: 2025-11-13 10:56:36 -0500 (Thu, 13 Nov 2025) EndedAt: 2025-11-13 10:56:38 -0500 (Thu, 13 Nov 2025) EllapsedTime: 2.3 seconds RetCode: 0 Status: OK