Package: bsseqData Version: 0.48.0 Command: /home/biocbuild/bbs-3.22-bioc/R/bin/R CMD build --keep-empty-dirs --no-resave-data bsseqData StartedAt: 2025-11-13 11:08:57 -0500 (Thu, 13 Nov 2025) EndedAt: 2025-11-13 11:09:06 -0500 (Thu, 13 Nov 2025) EllapsedTime: 8.8 seconds RetCode: 0 Status: OK PackageFile: bsseqData_0.48.0.tar.gz PackageFileSize: 127.7 MiB