Package: bladderbatch Version: 1.48.0 Command: /home/biocbuild/bbs-3.22-bioc/R/bin/R CMD INSTALL bladderbatch StartedAt: 2025-11-13 10:56:09 -0500 (Thu, 13 Nov 2025) EndedAt: 2025-11-13 10:56:11 -0500 (Thu, 13 Nov 2025) EllapsedTime: 2.3 seconds RetCode: 0 Status: OK