Package: biscuiteerData Version: 1.24.0 Command: /home/biocbuild/bbs-3.22-bioc/R/bin/R CMD INSTALL biscuiteerData StartedAt: 2025-11-13 10:57:57 -0500 (Thu, 13 Nov 2025) EndedAt: 2025-11-13 10:58:16 -0500 (Thu, 13 Nov 2025) EllapsedTime: 18.9 seconds RetCode: 0 Status: OK