Package: beadarrayExampleData Version: 1.48.0 Command: /home/biocbuild/bbs-3.22-bioc/R/bin/R CMD INSTALL beadarrayExampleData StartedAt: 2025-11-13 10:58:02 -0500 (Thu, 13 Nov 2025) EndedAt: 2025-11-13 10:58:13 -0500 (Thu, 13 Nov 2025) EllapsedTime: 10.9 seconds RetCode: 0 Status: OK