Package: beadarrayExampleData Version: 1.48.0 Command: /home/biocbuild/bbs-3.22-bioc/R/bin/R CMD build --keep-empty-dirs --no-resave-data beadarrayExampleData StartedAt: 2025-11-13 11:08:00 -0500 (Thu, 13 Nov 2025) EndedAt: 2025-11-13 11:08:26 -0500 (Thu, 13 Nov 2025) EllapsedTime: 26.1 seconds RetCode: 0 Status: OK PackageFile: beadarrayExampleData_1.48.0.tar.gz PackageFileSize: 29.96 MiB