Package: VectraPolarisData Version: 1.14.0 Command: /home/biocbuild/bbs-3.22-bioc/R/bin/R CMD build --keep-empty-dirs --no-resave-data VectraPolarisData StartedAt: 2025-11-13 11:48:51 -0500 (Thu, 13 Nov 2025) EndedAt: 2025-11-13 11:50:28 -0500 (Thu, 13 Nov 2025) EllapsedTime: 96.2 seconds RetCode: 0 Status: OK PackageFile: VectraPolarisData_1.14.0.tar.gz PackageFileSize: 794.1 KiB