Package: VectraPolarisData Version: 1.12.0 Command: /home/biocbuild/bbs-3.21-bioc/R/bin/R CMD INSTALL VectraPolarisData StartedAt: 2025-10-16 11:01:38 -0400 (Thu, 16 Oct 2025) EndedAt: 2025-10-16 11:02:07 -0400 (Thu, 16 Oct 2025) EllapsedTime: 29.0 seconds RetCode: 0 Status: OK