Package: VariantToolsData Version: 1.34.0 Command: /home/biocbuild/bbs-3.22-bioc/R/bin/R CMD INSTALL VariantToolsData StartedAt: 2025-11-13 11:03:54 -0500 (Thu, 13 Nov 2025) EndedAt: 2025-11-13 11:04:33 -0500 (Thu, 13 Nov 2025) EllapsedTime: 38.8 seconds RetCode: 0 Status: OK