Package: VariantToolsData Version: 1.32.0 Command: /home/biocbuild/bbs-3.21-bioc/R/bin/R CMD build --keep-empty-dirs --no-resave-data VariantToolsData StartedAt: 2025-10-16 11:44:20 -0400 (Thu, 16 Oct 2025) EndedAt: 2025-10-16 11:45:12 -0400 (Thu, 16 Oct 2025) EllapsedTime: 51.9 seconds RetCode: 0 Status: OK PackageFile: VariantToolsData_1.32.0.tar.gz PackageFileSize: 200.7 MiB