Package: TransOmicsData Version: 1.6.0 Command: /home/biocbuild/bbs-3.22-bioc/R/bin/R CMD build --keep-empty-dirs --no-resave-data TransOmicsData StartedAt: 2025-11-13 11:48:08 -0500 (Thu, 13 Nov 2025) EndedAt: 2025-11-13 11:48:24 -0500 (Thu, 13 Nov 2025) EllapsedTime: 15.4 seconds RetCode: 0 Status: OK PackageFile: TransOmicsData_1.6.0.tar.gz PackageFileSize: 232.8 KiB