Package: TargetSearchData Version: 1.48.0 Command: /home/biocbuild/bbs-3.22-bioc/R/bin/R CMD build --keep-empty-dirs --no-resave-data TargetSearchData StartedAt: 2025-11-13 11:45:43 -0500 (Thu, 13 Nov 2025) EndedAt: 2025-11-13 11:46:13 -0500 (Thu, 13 Nov 2025) EllapsedTime: 29.4 seconds RetCode: 0 Status: OK PackageFile: TargetSearchData_1.48.0.tar.gz PackageFileSize: 29.86 MiB