Package: TargetScoreData Version: 1.46.0 Command: /home/biocbuild/bbs-3.22-bioc/R/bin/R CMD build --keep-empty-dirs --no-resave-data TargetScoreData StartedAt: 2025-11-13 11:45:07 -0500 (Thu, 13 Nov 2025) EndedAt: 2025-11-13 11:45:43 -0500 (Thu, 13 Nov 2025) EllapsedTime: 36.0 seconds RetCode: 0 Status: OK PackageFile: TargetScoreData_1.46.0.tar.gz PackageFileSize: 206.2 MiB