Package: TMExplorer
Version: 1.18.0
Maintainer: Erik Christensen
MaintainerEmail: echris3 at uwo.ca
git_url: https://git.bioconductor.org/packages/TMExplorer
git_branch: RELEASE_3_21
git_last_commit: 143184d
git_last_commit_date: 2025-04-15 10:15:36 -0400 (Tue, 15 Apr 2025)