Package: TENxXeniumData Version: 1.6.0 Command: /home/biocbuild/bbs-3.22-bioc/R/bin/R CMD INSTALL TENxXeniumData StartedAt: 2025-11-13 11:03:11 -0500 (Thu, 13 Nov 2025) EndedAt: 2025-11-13 11:04:05 -0500 (Thu, 13 Nov 2025) EllapsedTime: 53.9 seconds RetCode: 0 Status: OK