Package: TENxXeniumData Version: 1.6.0 Command: /home/biocbuild/bbs-3.22-bioc/R/bin/R CMD build --keep-empty-dirs --no-resave-data TENxXeniumData StartedAt: 2025-11-13 11:46:58 -0500 (Thu, 13 Nov 2025) EndedAt: 2025-11-13 11:49:43 -0500 (Thu, 13 Nov 2025) EllapsedTime: 164.7 seconds RetCode: 0 Status: OK PackageFile: TENxXeniumData_1.6.0.tar.gz PackageFileSize: 224.9 KiB