Package: TENxPBMCData Version: 1.28.0 Command: /home/biocbuild/bbs-3.22-bioc/R/bin/R CMD INSTALL TENxPBMCData StartedAt: 2025-11-13 10:58:58 -0500 (Thu, 13 Nov 2025) EndedAt: 2025-11-13 10:59:30 -0500 (Thu, 13 Nov 2025) EllapsedTime: 32.8 seconds RetCode: 0 Status: OK