Package: TENxPBMCData Version: 1.28.0 Command: /home/biocbuild/bbs-3.22-bioc/R/bin/R CMD build --keep-empty-dirs --no-resave-data TENxPBMCData StartedAt: 2025-11-13 11:46:35 -0500 (Thu, 13 Nov 2025) EndedAt: 2025-11-13 11:47:27 -0500 (Thu, 13 Nov 2025) EllapsedTime: 51.9 seconds RetCode: 0 Status: OK PackageFile: TENxPBMCData_1.28.0.tar.gz PackageFileSize: 299.6 KiB