Package: TENxBrainData Version: 1.30.0 Command: /home/biocbuild/bbs-3.22-bioc/R/bin/R CMD INSTALL TENxBrainData StartedAt: 2025-11-13 10:58:59 -0500 (Thu, 13 Nov 2025) EndedAt: 2025-11-13 10:59:31 -0500 (Thu, 13 Nov 2025) EllapsedTime: 31.7 seconds RetCode: 0 Status: OK