Package: TCGAcrcmiRNA
Version: 1.28.0
Maintainer: Claudio Isella
MaintainerEmail: claudio.isella at ircc.it
git_url: https://git.bioconductor.org/packages/TCGAcrcmiRNA
git_branch: RELEASE_3_21
git_last_commit: 6b2fec9
git_last_commit_date: 2025-04-15 09:55:51 -0400 (Tue, 15 Apr 2025)