Package: TCGAbiolinksGUI.data Version: 1.30.0 Command: /home/biocbuild/bbs-3.22-bioc/R/bin/R CMD build --keep-empty-dirs --no-resave-data TCGAbiolinksGUI.data StartedAt: 2025-11-13 11:45:57 -0500 (Thu, 13 Nov 2025) EndedAt: 2025-11-13 11:46:29 -0500 (Thu, 13 Nov 2025) EllapsedTime: 31.9 seconds RetCode: 0 Status: OK PackageFile: TCGAbiolinksGUI.data_1.30.0.tar.gz PackageFileSize: 21.86 MiB