Package: TCGAWorkflowData Version: 1.34.0 Command: /home/biocbuild/bbs-3.22-bioc/R/bin/R CMD build --keep-empty-dirs --no-resave-data TCGAWorkflowData StartedAt: 2025-11-13 11:46:19 -0500 (Thu, 13 Nov 2025) EndedAt: 2025-11-13 11:48:51 -0500 (Thu, 13 Nov 2025) EllapsedTime: 152.0 seconds RetCode: 0 Status: OK PackageFile: TCGAWorkflowData_1.34.0.tar.gz PackageFileSize: 68.83 MiB