Package: SubcellularSpatialData Version: 1.6.0 Command: /home/biocbuild/bbs-3.22-bioc/R/bin/R CMD build --keep-empty-dirs --no-resave-data SubcellularSpatialData StartedAt: 2025-11-13 11:44:45 -0500 (Thu, 13 Nov 2025) EndedAt: 2025-11-13 11:45:52 -0500 (Thu, 13 Nov 2025) EllapsedTime: 67.4 seconds RetCode: 0 Status: OK PackageFile: SubcellularSpatialData_1.6.0.tar.gz PackageFileSize: 2.311 MiB