Package: SpikeIn Version: 1.52.0 Command: /home/biocbuild/bbs-3.22-bioc/R/bin/R CMD INSTALL SpikeIn StartedAt: 2025-11-13 10:56:12 -0500 (Thu, 13 Nov 2025) EndedAt: 2025-11-13 10:56:21 -0500 (Thu, 13 Nov 2025) EllapsedTime: 8.7 seconds RetCode: 0 Status: OK