Package: SpatialDatasets Version: 1.8.0 Command: /home/biocbuild/bbs-3.22-bioc/R/bin/R CMD INSTALL SpatialDatasets StartedAt: 2025-11-13 10:58:28 -0500 (Thu, 13 Nov 2025) EndedAt: 2025-11-13 10:59:00 -0500 (Thu, 13 Nov 2025) EllapsedTime: 32.0 seconds RetCode: 0 Status: OK