Package: SpatialDatasets Version: 1.8.0 Command: /home/biocbuild/bbs-3.22-bioc/R/bin/R CMD build --keep-empty-dirs --no-resave-data SpatialDatasets StartedAt: 2025-11-13 11:44:15 -0500 (Thu, 13 Nov 2025) EndedAt: 2025-11-13 12:02:34 -0500 (Thu, 13 Nov 2025) EllapsedTime: 1098.5 seconds RetCode: 0 Status: OK PackageFile: SpatialDatasets_1.8.0.tar.gz PackageFileSize: 227.8 KiB