Package: SpatialDatasets Version: 1.6.3 Command: /home/biocbuild/bbs-3.21-bioc/R/bin/R CMD build --keep-empty-dirs --no-resave-data SpatialDatasets StartedAt: 2025-10-16 11:40:17 -0400 (Thu, 16 Oct 2025) EndedAt: 2025-10-16 11:58:35 -0400 (Thu, 16 Oct 2025) EllapsedTime: 1098.4 seconds RetCode: 0 Status: OK PackageFile: SpatialDatasets_1.6.3.tar.gz PackageFileSize: 227.9 KiB