Package: SomaticCancerAlterations Version: 1.46.0 Command: /home/biocbuild/bbs-3.22-bioc/R/bin/R CMD INSTALL SomaticCancerAlterations StartedAt: 2025-11-13 10:57:56 -0500 (Thu, 13 Nov 2025) EndedAt: 2025-11-13 10:58:02 -0500 (Thu, 13 Nov 2025) EllapsedTime: 6.7 seconds RetCode: 0 Status: OK