Package: SingleCellMultiModal Version: 1.22.0 Command: /home/biocbuild/bbs-3.22-bioc/R/bin/R CMD build --keep-empty-dirs --no-resave-data SingleCellMultiModal StartedAt: 2025-11-13 11:43:53 -0500 (Thu, 13 Nov 2025) EndedAt: 2025-11-13 11:50:02 -0500 (Thu, 13 Nov 2025) EllapsedTime: 369.3 seconds RetCode: 0 Status: OK PackageFile: SingleCellMultiModal_1.22.0.tar.gz PackageFileSize: 2.882 MiB