Package: SingleCellMultiModal Version: 1.20.0 Command: /home/biocbuild/bbs-3.21-bioc/R/bin/R CMD INSTALL SingleCellMultiModal StartedAt: 2025-10-16 11:00:14 -0400 (Thu, 16 Oct 2025) EndedAt: 2025-10-16 11:00:44 -0400 (Thu, 16 Oct 2025) EllapsedTime: 30.3 seconds RetCode: 0 Status: OK