Package: SingleCellMultiModal
Version: 1.20.0
Maintainer: Marcel Ramos
MaintainerEmail: marcel.ramos at roswellpark.org
git_url: https://git.bioconductor.org/packages/SingleCellMultiModal
git_branch: RELEASE_3_21
git_last_commit: 32afbd3
git_last_commit_date: 2025-04-15 10:15:05 -0400 (Tue, 15 Apr 2025)