Package: Single.mTEC.Transcriptomes Version: 1.38.0 Command: /home/biocbuild/bbs-3.22-bioc/R/bin/R CMD INSTALL Single.mTEC.Transcriptomes StartedAt: 2025-11-13 10:55:48 -0500 (Thu, 13 Nov 2025) EndedAt: 2025-11-13 10:55:51 -0500 (Thu, 13 Nov 2025) EllapsedTime: 3.0 seconds RetCode: 0 Status: OK