Package: SimBenchData Version: 1.18.0 Command: /home/biocbuild/bbs-3.22-bioc/R/bin/R CMD build --keep-empty-dirs --no-resave-data SimBenchData StartedAt: 2025-11-13 11:43:41 -0500 (Thu, 13 Nov 2025) EndedAt: 2025-11-13 11:44:01 -0500 (Thu, 13 Nov 2025) EllapsedTime: 20.7 seconds RetCode: 0 Status: OK PackageFile: SimBenchData_1.18.0.tar.gz PackageFileSize: 236 KiB