Package: SimBenchData Version: 1.16.0 Command: /home/biocbuild/bbs-3.21-bioc/R/bin/R CMD INSTALL SimBenchData StartedAt: 2025-10-16 10:57:36 -0400 (Thu, 16 Oct 2025) EndedAt: 2025-10-16 10:57:50 -0400 (Thu, 16 Oct 2025) EllapsedTime: 13.4 seconds RetCode: 0 Status: OK