Package: RnBeads.mm9 Version: 1.42.0 Command: /home/biocbuild/bbs-3.22-bioc/R/bin/R CMD build --keep-empty-dirs --no-resave-data RnBeads.mm9 StartedAt: 2025-11-20 11:42:00 -0500 (Thu, 20 Nov 2025) EndedAt: 2025-11-20 11:42:06 -0500 (Thu, 20 Nov 2025) EllapsedTime: 6.0 seconds RetCode: 0 Status: OK PackageFile: RnBeads.mm9_1.42.0.tar.gz PackageFileSize: 94.41 MiB