Package: RnBeads.hg19 Version: 1.42.0 Command: /home/biocbuild/bbs-3.22-bioc/R/bin/R CMD INSTALL RnBeads.hg19 StartedAt: 2025-11-13 10:58:08 -0500 (Thu, 13 Nov 2025) EndedAt: 2025-11-13 10:58:16 -0500 (Thu, 13 Nov 2025) EllapsedTime: 8.1 seconds RetCode: 0 Status: OK