Package: RforProteomics Version: 1.48.0 Command: /home/biocbuild/bbs-3.22-bioc/R/bin/R CMD INSTALL RforProteomics StartedAt: 2025-11-13 11:00:24 -0500 (Thu, 13 Nov 2025) EndedAt: 2025-11-13 11:01:02 -0500 (Thu, 13 Nov 2025) EllapsedTime: 38.7 seconds RetCode: 0 Status: OK